BEGIN:VCALENDAR
VERSION:2.0
PRODID:-//casakc.org//NONSGML kigkonsult.se iCalcreator 2.30.10//
CALSCALE:GREGORIAN
METHOD:PUBLISH
UID:3c25f13e-d7ee-49a7-8f21-09f35d062dd4
X-WR-CALDESC:
X-WR-RELCALID:aede09f9cccae8fad6c5e407b031c0d2
X-WR-TIMEZONE:America/Chicago
BEGIN:VTIMEZONE
TZID:America/Chicago
BEGIN:STANDARD
TZNAME:CST
DTSTART:20211107T020000
TZOFFSETFROM:-0500
TZOFFSETTO:-0600
RDATE:20221106T020000
RDATE:20231105T020000
END:STANDARD
BEGIN:DAYLIGHT
TZNAME:CDT
DTSTART:20220313T020000
TZOFFSETFROM:-0600
TZOFFSETTO:-0500
RDATE:20230312T020000
END:DAYLIGHT
END:VTIMEZONE
BEGIN:VEVENT
UID:a7c34210-f4fa-4381-971c-6b0489ede8da
DTSTAMP:20260423T061922Z
DESCRIPTION:
DTSTART;TZID=America/Chicago:20220704T000000
DTEND;TZID=America/Chicago:20220704T235900
LOCATION:
SUMMARY:Independence Day CASA Office Closed
END:VEVENT
END:VCALENDAR
