BEGIN:VCALENDAR
VERSION:2.0
PRODID:-//casakc.org//NONSGML kigkonsult.se iCalcreator 2.30.10//
CALSCALE:GREGORIAN
METHOD:PUBLISH
UID:5ca88168-9302-4331-85b5-977764bf3340
X-WR-CALDESC:Join us for a 30-minute online no obligation information sessi
 on about what it means to be a CASA volunteer. Attending an information se
 ssion is a prerequisite for attending CASA Volunteer Training.\n\nTo regis
 ter for this info session\, click the Register Now button above\, or email
  Volunteer Specialist Kara Strickler at kstrickler@jacksoncountycasa-mo.or
 g.
X-WR-RELCALID:28e85a860360b585ea263ee2591a16fb
X-WR-TIMEZONE:America/Chicago
BEGIN:VTIMEZONE
TZID:America/Chicago
BEGIN:STANDARD
TZNAME:CST
DTSTART:20211107T020000
TZOFFSETFROM:-0500
TZOFFSETTO:-0600
RDATE:20221106T020000
RDATE:20231105T020000
END:STANDARD
BEGIN:DAYLIGHT
TZNAME:CDT
DTSTART:20220313T020000
TZOFFSETFROM:-0600
TZOFFSETTO:-0500
RDATE:20230312T020000
END:DAYLIGHT
END:VTIMEZONE
BEGIN:VEVENT
UID:3930f274-089e-4b2e-9e3d-812011efd0df
DTSTAMP:20260423T061753Z
DESCRIPTION:Join us for a 30-minute online no obligation information sessio
 n about what it means to be a CASA volunteer. Attending an information ses
 sion is a prerequisite for attending CASA Volunteer Training.\n\nTo regist
 er for this info session\, click the Register Now button above\, or email 
 Volunteer Specialist Kara Strickler at kstrickler@jacksoncountycasa-mo.org
 .
DTSTART;TZID=America/Chicago:20220712T173000
DTEND;TZID=America/Chicago:20220712T180000
LOCATION:Online via Zoom
SUMMARY:Volunteer Info Session
END:VEVENT
END:VCALENDAR
