BEGIN:VCALENDAR
VERSION:2.0
PRODID:-//casakc.org//NONSGML kigkonsult.se iCalcreator 2.30.10//
CALSCALE:GREGORIAN
METHOD:PUBLISH
UID:da2e138b-70a0-4786-88d2-0516de9c9639
X-WR-CALDESC:Join us for a 30-minute online no-obligation information sessi
 on about what it means to be a CASA volunteer. Attending an information se
 ssion is a prerequisite for attending CASA Volunteer Training.\n\nTo regis
 ter for this info session\, email Volunteer Specialist Kara Strickler at k
 strickler@jacksoncountycasa-mo.org or click the Register Now button above.
X-WR-RELCALID:8c135832499622967002254ea8ecdde9
X-WR-TIMEZONE:America/Chicago
BEGIN:VTIMEZONE
TZID:America/Chicago
BEGIN:STANDARD
TZNAME:CST
DTSTART:20211107T020000
TZOFFSETFROM:-0500
TZOFFSETTO:-0600
RDATE:20221106T020000
RDATE:20231105T020000
END:STANDARD
BEGIN:DAYLIGHT
TZNAME:CDT
DTSTART:20220313T020000
TZOFFSETFROM:-0600
TZOFFSETTO:-0500
RDATE:20230312T020000
END:DAYLIGHT
END:VTIMEZONE
BEGIN:VEVENT
UID:077eebe5-98bc-4302-b6b4-16ce57ebbc7a
DTSTAMP:20260423T045307Z
DESCRIPTION:Join us for a 30-minute online no-obligation information sessio
 n about what it means to be a CASA volunteer. Attending an information ses
 sion is a prerequisite for attending CASA Volunteer Training.\n\nTo regist
 er for this info session\, email Volunteer Specialist Kara Strickler at ks
 trickler@jacksoncountycasa-mo.org or click the Register Now button above.
DTSTART;TZID=America/Chicago:20220810T173000
DTEND;TZID=America/Chicago:20220810T180000
LOCATION:Online via Zoom
SUMMARY:Volunteer Info Session
END:VEVENT
END:VCALENDAR
