BEGIN:VCALENDAR
VERSION:2.0
PRODID:-//casakc.org//NONSGML kigkonsult.se iCalcreator 2.30.10//
CALSCALE:GREGORIAN
METHOD:PUBLISH
UID:16a3659c-7b68-44db-9c0e-18a8d523c1a8
X-WR-CALDESC:All CASA Volunteers must complete Volunteer Training prior to 
 being assigned to a case. To learn about the role and requirements of bein
 g a CASA Volunteer and to sign up to attend an Info Session\, which is a p
 rerequisite to Volunteer Training\, visit https://www.jacksoncountycasa-mo
 .org/volunteer/.
X-WR-RELCALID:35490153317efe28b337a1b03bb7d3e8
X-WR-TIMEZONE:America/Chicago
BEGIN:VTIMEZONE
TZID:America/Chicago
BEGIN:STANDARD
TZNAME:CST
DTSTART:20211107T020000
TZOFFSETFROM:-0500
TZOFFSETTO:-0600
RDATE:20221106T020000
RDATE:20231105T020000
END:STANDARD
BEGIN:DAYLIGHT
TZNAME:CDT
DTSTART:20220313T020000
TZOFFSETFROM:-0600
TZOFFSETTO:-0500
RDATE:20230312T020000
END:DAYLIGHT
END:VTIMEZONE
BEGIN:VEVENT
UID:fd58a8bd-39cc-4529-bb17-b89a4b14e473
DTSTAMP:20260423T044045Z
DESCRIPTION:All CASA Volunteers must complete Volunteer Training prior to b
 eing assigned to a case. To learn about the role and requirements of being
  a CASA Volunteer and to sign up to attend an Info Session\, which is a pr
 erequisite to Volunteer Training\, visit https://www.jacksoncountycasa-mo.
 org/volunteer/.
DTSTART;TZID=America/Chicago:20220811T170000
DTEND;TZID=America/Chicago:20220811T200000
LOCATION:
SUMMARY:Volunteer Training
END:VEVENT
END:VCALENDAR
