BEGIN:VCALENDAR
VERSION:2.0
PRODID:-//casakc.org//NONSGML kigkonsult.se iCalcreator 2.30.10//
CALSCALE:GREGORIAN
METHOD:PUBLISH
UID:88b55238-dcce-4b09-9b2a-357836bafa1a
X-WR-CALDESC:CLE: Missouri 8.0 hours includes 1.0 ethics and 2.0 eliminatio
 n of bias\nKansas credit pending\n\nCost: $175 attorney\n\nFree to attorne
 ys who commit to one pro-bono CASA GAL case and free to non-attorney CASA 
 volunteers.\nThis program satisfies both the 8-hour and 3-hour CLE require
 ments of Standard 14.0 of the Missouri Supreme Court’s Standards for Guard
 ians ad Litem.\n\n8:00 a.m. Webcast Access\n\n8:30 a.m. - 4:40 p.m. Webina
 r\n\nSpeakers will discuss:\n\n-Missouri Supreme Court GAL Standards\n\n-C
 hild Welfare Legal Framework\n\n-Timeline of a Family Court Case and Perma
 nency Options\n\n-The Effects of Trauma on children and Families\n\n-How t
 o Engage with Children as the GAL\n\n-Ethics\, Diversity\, Elimination of 
 Bias\, Inclusion\, and Best Interest\n\nCost:  $175 attorneys\n\nFree for 
 attorneys who commit to one pro-bono CASA GAL case and non-attorney CASA v
 olunteers
X-WR-RELCALID:3a6448fd65bc25bb03f2c0f18c4ecedb
X-WR-TIMEZONE:America/Chicago
BEGIN:VTIMEZONE
TZID:America/Chicago
BEGIN:STANDARD
TZNAME:CST
DTSTART:20211107T020000
TZOFFSETFROM:-0500
TZOFFSETTO:-0600
RDATE:20221106T020000
RDATE:20231105T020000
END:STANDARD
BEGIN:DAYLIGHT
TZNAME:CDT
DTSTART:20220313T020000
TZOFFSETFROM:-0600
TZOFFSETTO:-0500
RDATE:20230312T020000
END:DAYLIGHT
END:VTIMEZONE
BEGIN:VEVENT
UID:a05f4eb9-fcf1-42fd-83ca-8e1850bc6e95
DTSTAMP:20260423T045225Z
DESCRIPTION:CLE: Missouri 8.0 hours includes 1.0 ethics and 2.0 elimination
  of bias\nKansas credit pending\n\nCost: $175 attorney\n\nFree to attorney
 s who commit to one pro-bono CASA GAL case and free to non-attorney CASA v
 olunteers.\nThis program satisfies both the 8-hour and 3-hour CLE requirem
 ents of Standard 14.0 of the Missouri Supreme Court’s Standards for Guardi
 ans ad Litem.\n\n8:00 a.m. Webcast Access\n\n8:30 a.m. - 4:40 p.m. Webinar
 \n\nSpeakers will discuss:\n\n-Missouri Supreme Court GAL Standards\n\n-Ch
 ild Welfare Legal Framework\n\n-Timeline of a Family Court Case and Perman
 ency Options\n\n-The Effects of Trauma on children and Families\n\n-How to
  Engage with Children as the GAL\n\n-Ethics\, Diversity\, Elimination of B
 ias\, Inclusion\, and Best Interest\n\nCost:  $175 attorneys\n\nFree for a
 ttorneys who commit to one pro-bono CASA GAL case and non-attorney CASA vo
 lunteers
DTSTART;TZID=America/Chicago:20220825T083000
DTEND;TZID=America/Chicago:20220825T164000
LOCATION:Online Event. Link available with Registration via UMKC Law Events
  calendar
SUMMARY:Guardian ad Litem Basics
END:VEVENT
END:VCALENDAR
