BEGIN:VCALENDAR
VERSION:2.0
PRODID:-//casakc.org//NONSGML kigkonsult.se iCalcreator 2.30.10//
CALSCALE:GREGORIAN
METHOD:PUBLISH
UID:3419eb15-e5c3-4f1b-9bb5-6a13f44b601e
X-WR-CALDESC:
X-WR-RELCALID:39a632109fa471356c370d1ee7c7452c
X-WR-TIMEZONE:America/Chicago
BEGIN:VTIMEZONE
TZID:America/Chicago
BEGIN:STANDARD
TZNAME:CST
DTSTART:20211107T020000
TZOFFSETFROM:-0500
TZOFFSETTO:-0600
RDATE:20221106T020000
RDATE:20231105T020000
END:STANDARD
BEGIN:DAYLIGHT
TZNAME:CDT
DTSTART:20220313T020000
TZOFFSETFROM:-0600
TZOFFSETTO:-0500
RDATE:20230312T020000
END:DAYLIGHT
END:VTIMEZONE
BEGIN:VEVENT
UID:22abacc0-11a2-4f9c-9ff9-21d2b9fccc23
DTSTAMP:20260423T045315Z
DESCRIPTION:
DTSTART;TZID=America/Chicago:20220826T120000
DTEND;TZID=America/Chicago:20220826T130000
LOCATION:
SUMMARY:Board Meeting
END:VEVENT
END:VCALENDAR
