BEGIN:VCALENDAR
VERSION:2.0
PRODID:-//casakc.org//NONSGML kigkonsult.se iCalcreator 2.30.10//
CALSCALE:GREGORIAN
METHOD:PUBLISH
UID:2118ae4b-237f-4fc3-b287-ce1a01a59155
X-WR-CALDESC:
X-WR-RELCALID:b367ca06dbb48c7e3dd31864a4f4566c
X-WR-TIMEZONE:America/Chicago
BEGIN:VTIMEZONE
TZID:America/Chicago
BEGIN:STANDARD
TZNAME:CST
DTSTART:20211107T020000
TZOFFSETFROM:-0500
TZOFFSETTO:-0600
RDATE:20221106T020000
RDATE:20231105T020000
END:STANDARD
BEGIN:DAYLIGHT
TZNAME:CDT
DTSTART:20220313T020000
TZOFFSETFROM:-0600
TZOFFSETTO:-0500
RDATE:20230312T020000
END:DAYLIGHT
END:VTIMEZONE
BEGIN:VEVENT
UID:b720598e-1482-4da7-8f84-8bd8b8bd0cb2
DTSTAMP:20260423T044400Z
DESCRIPTION:
DTSTART;TZID=America/Chicago:20220829T173000
DTEND;TZID=America/Chicago:20220829T190000
LOCATION:
SUMMARY:Nuts & Bolts Training: Trauma 101
END:VEVENT
END:VCALENDAR
