BEGIN:VCALENDAR
VERSION:2.0
PRODID:-//casakc.org//NONSGML kigkonsult.se iCalcreator 2.30.10//
CALSCALE:GREGORIAN
METHOD:PUBLISH
UID:32dee5e0-b160-4fb8-bd51-ad4e359b05b6
X-WR-CALDESC:Join us for a 30-minute online no-obligation information sessi
 on about what it means to be a CASA volunteer. Attending an information se
 ssion is a prerequisite for attending CASA Volunteer Training.\n\nTo regis
 ter for this info session\, email Volunteer Specialist Kara Strickler at k
 strickler@jacksoncountycasa-mo.org or click the Register Now button above.
X-WR-RELCALID:640d022e6f4dc59561c87ffeae08c9f9
X-WR-TIMEZONE:America/Chicago
BEGIN:VTIMEZONE
TZID:America/Chicago
BEGIN:STANDARD
TZNAME:CST
DTSTART:20211107T020000
TZOFFSETFROM:-0500
TZOFFSETTO:-0600
RDATE:20221106T020000
RDATE:20231105T020000
END:STANDARD
BEGIN:DAYLIGHT
TZNAME:CDT
DTSTART:20220313T020000
TZOFFSETFROM:-0600
TZOFFSETTO:-0500
RDATE:20230312T020000
END:DAYLIGHT
END:VTIMEZONE
BEGIN:VEVENT
UID:2dd496fb-cc82-4f4d-9866-f1e9370d1ff6
DTSTAMP:20260423T030554Z
DESCRIPTION:Join us for a 30-minute online no-obligation information sessio
 n about what it means to be a CASA volunteer. Attending an information ses
 sion is a prerequisite for attending CASA Volunteer Training.\n\nTo regist
 er for this info session\, email Volunteer Specialist Kara Strickler at ks
 trickler@jacksoncountycasa-mo.org or click the Register Now button above.
DTSTART;TZID=America/Chicago:20220907T173000
DTEND;TZID=America/Chicago:20220907T180000
LOCATION:Info sessions are conducted via Zoom. Please register to receive t
 he Zoom link.
SUMMARY:Volunteer Info Session
END:VEVENT
END:VCALENDAR
