BEGIN:VCALENDAR
VERSION:2.0
PRODID:-//casakc.org//NONSGML kigkonsult.se iCalcreator 2.30.10//
CALSCALE:GREGORIAN
METHOD:PUBLISH
UID:2565f807-0834-4ada-aa09-c132ab80abaa
X-WR-CALDESC:
X-WR-RELCALID:c6e062533c1a855248bf4b4e7dfff3b6
X-WR-TIMEZONE:America/Chicago
BEGIN:VTIMEZONE
TZID:America/Chicago
BEGIN:STANDARD
TZNAME:CST
DTSTART:20211107T020000
TZOFFSETFROM:-0500
TZOFFSETTO:-0600
RDATE:20221106T020000
RDATE:20231105T020000
END:STANDARD
BEGIN:DAYLIGHT
TZNAME:CDT
DTSTART:20220313T020000
TZOFFSETFROM:-0600
TZOFFSETTO:-0500
RDATE:20230312T020000
RDATE:20240310T020000
END:DAYLIGHT
END:VTIMEZONE
BEGIN:VEVENT
UID:de2b374e-6d4e-4dc4-b744-8f93f0cea7bc
DTSTAMP:20260423T030456Z
DESCRIPTION:
DTSTART;TZID=America/Chicago:20220913T120000
DTEND;TZID=America/Chicago:20220913T130000
LOCATION:
SUMMARY:Volunteer Roundtable
END:VEVENT
END:VCALENDAR
