BEGIN:VCALENDAR
VERSION:2.0
PRODID:-//casakc.org//NONSGML kigkonsult.se iCalcreator 2.30.10//
CALSCALE:GREGORIAN
METHOD:PUBLISH
UID:4386e25f-500b-4f34-9d9b-b2bdad172e40
X-WR-CALDESC:
X-WR-RELCALID:1fb8223f1c8ed9c84b012b31e3727a38
X-WR-TIMEZONE:America/Chicago
BEGIN:VTIMEZONE
TZID:America/Chicago
BEGIN:STANDARD
TZNAME:CST
DTSTART:20211107T020000
TZOFFSETFROM:-0500
TZOFFSETTO:-0600
RDATE:20221106T020000
RDATE:20231105T020000
END:STANDARD
BEGIN:DAYLIGHT
TZNAME:CDT
DTSTART:20220313T020000
TZOFFSETFROM:-0600
TZOFFSETTO:-0500
RDATE:20230312T020000
RDATE:20240310T020000
END:DAYLIGHT
END:VTIMEZONE
BEGIN:VEVENT
UID:1c084a0c-4bdd-4934-a401-fd1499a34618
DTSTAMP:20260423T031242Z
DESCRIPTION:
DTSTART;TZID=America/Chicago:20220923T120000
DTEND;TZID=America/Chicago:20220923T130000
LOCATION:
SUMMARY:Board Meeting
END:VEVENT
END:VCALENDAR
