BEGIN:VCALENDAR
VERSION:2.0
PRODID:-//casakc.org//NONSGML kigkonsult.se iCalcreator 2.30.10//
CALSCALE:GREGORIAN
METHOD:PUBLISH
UID:3228658a-9687-4d5f-90e6-1c58b56471bf
X-WR-CALDESC:The legal history of the American foster care system may not b
 e what you think. Even today's foster care system is often misunderstood. 
 From unregulated orphan trains and indentured servitude to today's challen
 ges of disproportionality and poor outcomes for transition-aged youth\, th
 is convoluted history is a story of continuous imbalance between intention
  and impact. In this hour long presentation\, you will learn about the ori
 gins of foster care in the United States\, the evolution of the child welf
 are system from our country's inception up through its modern era of the l
 ast 50 years\, and why your advocacy is needed.\n\nThis Zoom presentation 
 will be led by Jackson County CASA Vice President of Operations\, Claire T
 errebonne\, and is open to CASA Volunteers and to the public. Please invit
 e anyone who may be interested in attending. To RSVP\, visit: http://evite
 .me/wTzkDYDhqb.
X-WR-RELCALID:b96b1406253a30c10563f964675f330f
X-WR-TIMEZONE:America/Chicago
BEGIN:VTIMEZONE
TZID:America/Chicago
BEGIN:STANDARD
TZNAME:CST
DTSTART:20211107T020000
TZOFFSETFROM:-0500
TZOFFSETTO:-0600
RDATE:20221106T020000
RDATE:20231105T020000
END:STANDARD
BEGIN:DAYLIGHT
TZNAME:CDT
DTSTART:20220313T020000
TZOFFSETFROM:-0600
TZOFFSETTO:-0500
RDATE:20230312T020000
RDATE:20240310T020000
END:DAYLIGHT
END:VTIMEZONE
BEGIN:VEVENT
UID:008bb4b8-817e-4bc1-bf0e-694369f02f2d
DTSTAMP:20260423T031330Z
DESCRIPTION:The legal history of the American foster care system may not be
  what you think. Even today's foster care system is often misunderstood. F
 rom unregulated orphan trains and indentured servitude to today's challeng
 es of disproportionality and poor outcomes for transition-aged youth\, thi
 s convoluted history is a story of continuous imbalance between intention 
 and impact. In this hour long presentation\, you will learn about the orig
 ins of foster care in the United States\, the evolution of the child welfa
 re system from our country's inception up through its modern era of the la
 st 50 years\, and why your advocacy is needed.\n\nThis Zoom presentation w
 ill be led by Jackson County CASA Vice President of Operations\, Claire Te
 rrebonne\, and is open to CASA Volunteers and to the public. Please invite
  anyone who may be interested in attending. To RSVP\, visit: http://evite.
 me/wTzkDYDhqb.
DTSTART;TZID=America/Chicago:20220928T173000
DTEND;TZID=America/Chicago:20220928T183000
LOCATION:
SUMMARY:Legal History of Foster Care in the United States Training
END:VEVENT
END:VCALENDAR
