BEGIN:VCALENDAR
VERSION:2.0
PRODID:-//casakc.org//NONSGML kigkonsult.se iCalcreator 2.30.10//
CALSCALE:GREGORIAN
METHOD:PUBLISH
UID:488a09ee-3e88-4c24-b861-a42335e34277
X-WR-CALDESC:Cocktails for CASA—A Night of Hope is Jackson County CASA’s an
 nual auction. Guests will enjoy exceptional food and drink\, live music an
 d entertainment\, and silent and live auction items all in the stylish Pen
 nway Place event space at Studio Dan Meiners. The event funds CASA’s missi
 on to ensure that children who have experienced abuse or neglect will grow
  up in a safe and permanent home.
X-WR-RELCALID:0868444ac8b904918398720092074700
X-WR-TIMEZONE:America/Chicago
BEGIN:VTIMEZONE
TZID:America/Chicago
BEGIN:STANDARD
TZNAME:CST
DTSTART:20211107T020000
TZOFFSETFROM:-0500
TZOFFSETTO:-0600
RDATE:20221106T020000
RDATE:20231105T020000
END:STANDARD
BEGIN:DAYLIGHT
TZNAME:CDT
DTSTART:20220313T020000
TZOFFSETFROM:-0600
TZOFFSETTO:-0500
RDATE:20230312T020000
RDATE:20240310T020000
END:DAYLIGHT
END:VTIMEZONE
BEGIN:VEVENT
UID:7750d33c-c5c2-4854-a77d-113ac15c6e06
DTSTAMP:20260423T031330Z
DESCRIPTION:Cocktails for CASA—A Night of Hope is Jackson County CASA’s ann
 ual auction. Guests will enjoy exceptional food and drink\, live music and
  entertainment\, and silent and live auction items all in the stylish Penn
 way Place event space at Studio Dan Meiners. The event funds CASA’s missio
 n to ensure that children who have experienced abuse or neglect will grow 
 up in a safe and permanent home.
DTSTART;TZID=America/Chicago:20220930T180000
DTEND;TZID=America/Chicago:20220930T220000
LOCATION:2500 W Pennway St\, Kansas City\, MO 64108 US
SUMMARY:Cocktails for CASA--A Night of Hope
END:VEVENT
END:VCALENDAR
