BEGIN:VCALENDAR
VERSION:2.0
PRODID:-//casakc.org//NONSGML kigkonsult.se iCalcreator 2.30.10//
CALSCALE:GREGORIAN
METHOD:PUBLISH
UID:d61ecd7e-f321-425f-bf3a-841e116b0292
X-WR-CALDESC:Join us for a 30-minute online no-obligation information sessi
 on about what it means to be a CASA volunteer. Attending an information se
 ssion is a prerequisite for attending CASA Volunteer Training.\n\nTo regis
 ter for this info session\, email Volunteer Specialist Kara Strickler at k
 strickler@jacksoncountycasa-mo.org or click the Register Now button above.
X-WR-RELCALID:b63b60f83cb907b76714f7cde9d69c70
X-WR-TIMEZONE:America/Chicago
BEGIN:VTIMEZONE
TZID:America/Chicago
BEGIN:STANDARD
TZNAME:CST
DTSTART:20211107T020000
TZOFFSETFROM:-0500
TZOFFSETTO:-0600
RDATE:20221106T020000
RDATE:20231105T020000
END:STANDARD
BEGIN:DAYLIGHT
TZNAME:CDT
DTSTART:20220313T020000
TZOFFSETFROM:-0600
TZOFFSETTO:-0500
RDATE:20230312T020000
RDATE:20240310T020000
END:DAYLIGHT
END:VTIMEZONE
BEGIN:VEVENT
UID:502b0a95-884f-478b-9fb4-b37d1d907472
DTSTAMP:20260423T014930Z
DESCRIPTION:Join us for a 30-minute online no-obligation information sessio
 n about what it means to be a CASA volunteer. Attending an information ses
 sion is a prerequisite for attending CASA Volunteer Training.\n\nTo regist
 er for this info session\, email Volunteer Specialist Kara Strickler at ks
 trickler@jacksoncountycasa-mo.org or click the Register Now button above.
DTSTART;TZID=America/Chicago:20221026T173000
DTEND;TZID=America/Chicago:20221026T180000
LOCATION:Info sessions are conducted via Zoom. Please register to receive t
 he Zoom link.
SUMMARY:Volunteer Info Session
END:VEVENT
END:VCALENDAR
