BEGIN:VCALENDAR
VERSION:2.0
PRODID:-//casakc.org//NONSGML kigkonsult.se iCalcreator 2.30.10//
CALSCALE:GREGORIAN
METHOD:PUBLISH
UID:52c3d83d-964c-4744-8297-2991b50d0d42
X-WR-CALDESC:Celebrate #ProBonoWeek with us at the Tower Tavern.  Meet Jack
 son County CASA's Pro Bono Attorney team and learn how you can become one.
X-WR-RELCALID:1b49e61f1c4985dd998ddfc05dff4441
X-WR-TIMEZONE:America/Chicago
BEGIN:VTIMEZONE
TZID:America/Chicago
BEGIN:STANDARD
TZNAME:CST
DTSTART:20211107T020000
TZOFFSETFROM:-0500
TZOFFSETTO:-0600
RDATE:20221106T020000
RDATE:20231105T020000
END:STANDARD
BEGIN:DAYLIGHT
TZNAME:CDT
DTSTART:20220313T020000
TZOFFSETFROM:-0600
TZOFFSETTO:-0500
RDATE:20230312T020000
RDATE:20240310T020000
END:DAYLIGHT
END:VTIMEZONE
BEGIN:VEVENT
UID:d106c4af-3b7b-4e5b-a474-eae6488bf519
DTSTAMP:20260423T015119Z
DESCRIPTION:Celebrate #ProBonoWeek with us at the Tower Tavern.  Meet Jacks
 on County CASA's Pro Bono Attorney team and learn how you can become one.
DTSTART;TZID=America/Chicago:20221027T163000
DTEND;TZID=America/Chicago:20221027T183000
LOCATION:Tower Tavern\, 401 East 31st Street\, KCMO
SUMMARY:Pro Bono Happy Hour
END:VEVENT
END:VCALENDAR
