BEGIN:VCALENDAR
VERSION:2.0
PRODID:-//casakc.org//NONSGML kigkonsult.se iCalcreator 2.30.10//
CALSCALE:GREGORIAN
METHOD:PUBLISH
UID:2359fe96-a238-4662-9c00-3a7fb1f48b2b
X-WR-CALDESC:Join us and host Rebecca David for a fun shopping day at Evere
 ve women's boutique on the Country Club Plaza\, on November 16th from 10:0
 0 a.m. to 7:00 p.m. Enjoy snacks and a beverage while you shop from Everev
 e's stylish fall and winter collection from 4:00 p.m. to 7:00 p.m. Evereve
  will generously donate 15% of the day's sales to Jackson County CASA to h
 elp fund our mission to provide trained Volunteer advocates for children w
 ho are in foster care due to abuse or neglect.
X-WR-RELCALID:aa8e82a195b9c19ab5098a2240290d5c
X-WR-TIMEZONE:America/Chicago
BEGIN:VTIMEZONE
TZID:America/Chicago
BEGIN:STANDARD
TZNAME:CST
DTSTART:20221106T020000
TZOFFSETFROM:-0500
TZOFFSETTO:-0600
RDATE:20231105T020000
END:STANDARD
BEGIN:DAYLIGHT
TZNAME:CDT
DTSTART:20220313T020000
TZOFFSETFROM:-0600
TZOFFSETTO:-0500
RDATE:20230312T020000
RDATE:20240310T020000
END:DAYLIGHT
END:VTIMEZONE
BEGIN:VEVENT
UID:6a8a164c-5061-42c6-a728-79ed6b0f58c5
DTSTAMP:20260423T002743Z
DESCRIPTION:Join us and host Rebecca David for a fun shopping day at Everev
 e women's boutique on the Country Club Plaza\, on November 16th from 10:00
  a.m. to 7:00 p.m. Enjoy snacks and a beverage while you shop from Evereve
 's stylish fall and winter collection from 4:00 p.m. to 7:00 p.m. Evereve 
 will generously donate 15% of the day's sales to Jackson County CASA to he
 lp fund our mission to provide trained Volunteer advocates for children wh
 o are in foster care due to abuse or neglect.
DTSTART;TZID=America/Chicago:20221116T000000
DTEND;TZID=America/Chicago:20221116T235900
LOCATION:
SUMMARY:Evereve Fashion Fundraiser
END:VEVENT
END:VCALENDAR
