BEGIN:VCALENDAR
VERSION:2.0
PRODID:-//casakc.org//NONSGML kigkonsult.se iCalcreator 2.30.10//
CALSCALE:GREGORIAN
METHOD:PUBLISH
UID:af010e86-ac8a-4f6e-baba-fa2e23159b3e
X-WR-CALDESC:
X-WR-RELCALID:24edc74ea878e0909ed84b68cce12e3e
X-WR-TIMEZONE:America/Chicago
BEGIN:VTIMEZONE
TZID:America/Chicago
BEGIN:STANDARD
TZNAME:CST
DTSTART:20221106T020000
TZOFFSETFROM:-0500
TZOFFSETTO:-0600
RDATE:20231105T020000
END:STANDARD
BEGIN:DAYLIGHT
TZNAME:CDT
DTSTART:20220313T020000
TZOFFSETFROM:-0600
TZOFFSETTO:-0500
RDATE:20230312T020000
RDATE:20240310T020000
END:DAYLIGHT
END:VTIMEZONE
BEGIN:VEVENT
UID:3df9d7b8-4869-4466-b1a7-3730cc85902f
DTSTAMP:20260422T230324Z
DESCRIPTION:
DTSTART;TZID=America/Chicago:20221216T120000
DTEND;TZID=America/Chicago:20221216T130000
LOCATION:
SUMMARY:Board Meeting
END:VEVENT
END:VCALENDAR
