BEGIN:VCALENDAR
VERSION:2.0
PRODID:-//casakc.org//NONSGML kigkonsult.se iCalcreator 2.30.10//
CALSCALE:GREGORIAN
METHOD:PUBLISH
UID:f85d1a3c-a32d-41a3-861f-e02cfaa4734d
X-WR-CALDESC:Join us for a 30-minute online no-obligation information sessi
 on about what it means to be a CASA volunteer. Attending an information se
 ssion is a prerequisite for attending CASA Volunteer Training.\n\nTo regis
 ter for this info session\, email Volunteer Specialist Kara Strickler at k
 strickler@jacksoncountycasa-mo.org or click the Register Now button above.
X-WR-RELCALID:9c352ac72a63bdb2a0ae0eca4c44b05c
X-WR-TIMEZONE:America/Chicago
BEGIN:VTIMEZONE
TZID:America/Chicago
BEGIN:STANDARD
TZNAME:CST
DTSTART:20221106T020000
TZOFFSETFROM:-0500
TZOFFSETTO:-0600
RDATE:20231105T020000
END:STANDARD
BEGIN:DAYLIGHT
TZNAME:CDT
DTSTART:20220313T020000
TZOFFSETFROM:-0600
TZOFFSETTO:-0500
RDATE:20230312T020000
RDATE:20240310T020000
END:DAYLIGHT
END:VTIMEZONE
BEGIN:VEVENT
UID:8c1f6a29-113b-4153-82fc-b79fe676b061
DTSTAMP:20260422T225243Z
DESCRIPTION:Join us for a 30-minute online no-obligation information sessio
 n about what it means to be a CASA volunteer. Attending an information ses
 sion is a prerequisite for attending CASA Volunteer Training.\n\nTo regist
 er for this info session\, email Volunteer Specialist Kara Strickler at ks
 trickler@jacksoncountycasa-mo.org or click the Register Now button above.
DTSTART;TZID=America/Chicago:20221229T173000
DTEND;TZID=America/Chicago:20221229T180000
LOCATION:Info sessions are conducted via Zoom. Please register to receive t
 he Zoom link.
SUMMARY:Volunteer Info Session
END:VEVENT
END:VCALENDAR
