BEGIN:VCALENDAR
VERSION:2.0
PRODID:-//casakc.org//NONSGML kigkonsult.se iCalcreator 2.30.10//
CALSCALE:GREGORIAN
METHOD:PUBLISH
UID:cdfc993a-29c3-4f15-9a5b-975d6f00d93d
X-WR-CALDESC:Come enjoy treats and tours of the newly remodeled CASA House 
 and pick up your Volunteer Appreciation gift!
X-WR-RELCALID:cddea84be0292286d3114d1660033df0
X-WR-TIMEZONE:America/Chicago
BEGIN:VTIMEZONE
TZID:America/Chicago
BEGIN:STANDARD
TZNAME:CST
DTSTART:20221106T020000
TZOFFSETFROM:-0500
TZOFFSETTO:-0600
RDATE:20231105T020000
END:STANDARD
BEGIN:DAYLIGHT
TZNAME:CDT
DTSTART:20220313T020000
TZOFFSETFROM:-0600
TZOFFSETTO:-0500
RDATE:20230312T020000
RDATE:20240310T020000
END:DAYLIGHT
END:VTIMEZONE
BEGIN:VEVENT
UID:521b4465-a441-442e-acdf-9bcea8eae770
DTSTAMP:20260422T212617Z
DESCRIPTION:Come enjoy treats and tours of the newly remodeled CASA House a
 nd pick up your Volunteer Appreciation gift!
DTSTART;TZID=America/Chicago:20230120T170000
DTEND;TZID=America/Chicago:20230120T193000
LOCATION:2544 Holmes St\, Kansas City\, MO 64108 US
SUMMARY:Volunteer New Year's Open House
END:VEVENT
END:VCALENDAR
