BEGIN:VCALENDAR
VERSION:2.0
PRODID:-//casakc.org//NONSGML kigkonsult.se iCalcreator 2.30.10//
CALSCALE:GREGORIAN
METHOD:PUBLISH
UID:73ee2cf4-9b49-4f50-a8c1-fd9a74651762
X-WR-CALDESC:
X-WR-RELCALID:8eb966e87fabc77f3f9f45f4a3fdd48c
X-WR-TIMEZONE:America/Chicago
BEGIN:VTIMEZONE
TZID:America/Chicago
BEGIN:STANDARD
TZNAME:CST
DTSTART:20221106T020000
TZOFFSETFROM:-0500
TZOFFSETTO:-0600
RDATE:20231105T020000
END:STANDARD
BEGIN:DAYLIGHT
TZNAME:CDT
DTSTART:20220313T020000
TZOFFSETFROM:-0600
TZOFFSETTO:-0500
RDATE:20230312T020000
RDATE:20240310T020000
END:DAYLIGHT
END:VTIMEZONE
BEGIN:VEVENT
UID:1a68b1d6-2ceb-428e-86db-1871abd317bc
DTSTAMP:20260422T195718Z
DESCRIPTION:
DTSTART;TZID=America/Chicago:20230224T120000
DTEND;TZID=America/Chicago:20230224T130000
LOCATION:
SUMMARY:Board Meeting
END:VEVENT
END:VCALENDAR
