BEGIN:VCALENDAR
VERSION:2.0
PRODID:-//casakc.org//NONSGML kigkonsult.se iCalcreator 2.30.10//
CALSCALE:GREGORIAN
METHOD:PUBLISH
UID:460406c5-4b5c-4342-8d10-f006170c957c
X-WR-CALDESC:Join us for a 45-minute no-obligation information session at t
 he CASA office (2544 Holmes\, KCMO). During this info session\, you'll lea
 rn what it means to be a CASA volunteer and how you can join our efforts i
 n serving children in foster care. Attending an information session is a p
 rerequisite for attending CASA Volunteer Training.\n\nTo register for this
  in-person info session\, email Volunteer Specialist Kara Strickler at kst
 rickler@jacksoncountycasa-mo.org or click the Register Now button.
X-WR-RELCALID:07e3c784c05f56e5a6104d8204f71baf
X-WR-TIMEZONE:America/Chicago
BEGIN:VTIMEZONE
TZID:America/Chicago
BEGIN:STANDARD
TZNAME:CST
DTSTART:20221106T020000
TZOFFSETFROM:-0500
TZOFFSETTO:-0600
RDATE:20231105T020000
END:STANDARD
BEGIN:DAYLIGHT
TZNAME:CDT
DTSTART:20230312T020000
TZOFFSETFROM:-0600
TZOFFSETTO:-0500
RDATE:20240310T020000
END:DAYLIGHT
END:VTIMEZONE
BEGIN:VEVENT
UID:d1bd1148-3336-4eec-b624-9b2db810a70f
DTSTAMP:20260422T165256Z
DESCRIPTION:Join us for a 45-minute no-obligation information session at th
 e CASA office (2544 Holmes\, KCMO). During this info session\, you'll lear
 n what it means to be a CASA volunteer and how you can join our efforts in
  serving children in foster care. Attending an information session is a pr
 erequisite for attending CASA Volunteer Training.\n\nTo register for this 
 in-person info session\, email Volunteer Specialist Kara Strickler at kstr
 ickler@jacksoncountycasa-mo.org or click the Register Now button.
DTSTART;TZID=America/Chicago:20230405T120000
DTEND;TZID=America/Chicago:20230405T124500
LOCATION:2544 Holmes\, Kansas City\, MO 64108 US
SUMMARY:In-Person Volunteer Info Session
END:VEVENT
END:VCALENDAR
