BEGIN:VCALENDAR
VERSION:2.0
PRODID:-//casakc.org//NONSGML kigkonsult.se iCalcreator 2.30.10//
CALSCALE:GREGORIAN
METHOD:PUBLISH
UID:e8abcc96-34f2-4adf-a156-5227477e5a00
X-WR-CALDESC:We hope you'll be able to join us for the Volunteer Happy Hour
  on Friday\, May 12\, from 5 - 7 p.m. at the CASA office (2544 Holmes\, Ka
 nsas City\, MO). We'll enjoy snacks\, drinks\, and yard games\, and we'll 
 have a volunteer appreciation gift for each of our CASA Volunteers. Invite
  friends or family to come along for this fun evening at CASA! Click here 
 to RSVP.
X-WR-RELCALID:602cb5434672f4d216a5fa99ac7fde67
X-WR-TIMEZONE:America/Chicago
BEGIN:VTIMEZONE
TZID:America/Chicago
BEGIN:STANDARD
TZNAME:CST
DTSTART:20221106T020000
TZOFFSETFROM:-0500
TZOFFSETTO:-0600
RDATE:20231105T020000
RDATE:20241103T020000
END:STANDARD
BEGIN:DAYLIGHT
TZNAME:CDT
DTSTART:20230312T020000
TZOFFSETFROM:-0600
TZOFFSETTO:-0500
RDATE:20240310T020000
END:DAYLIGHT
END:VTIMEZONE
BEGIN:VEVENT
UID:c43a8585-7f32-40c3-9ea6-be59d6d438fc
DTSTAMP:20260422T022927Z
DESCRIPTION:We hope you'll be able to join us for the Volunteer Happy Hour 
 on Friday\, May 12\, from 5 - 7 p.m. at the CASA office (2544 Holmes\, Kan
 sas City\, MO). We'll enjoy snacks\, drinks\, and yard games\, and we'll h
 ave a volunteer appreciation gift for each of our CASA Volunteers. Invite 
 friends or family to come along for this fun evening at CASA! Click here t
 o RSVP.
DTSTART;TZID=America/Chicago:20230512T170000
DTEND;TZID=America/Chicago:20230512T190000
LOCATION:2544 Holmes St\, Kansas City\, MO 64108 US
SUMMARY:Volunteer Happy Hour
END:VEVENT
END:VCALENDAR
