BEGIN:VCALENDAR
VERSION:2.0
PRODID:-//casakc.org//NONSGML kigkonsult.se iCalcreator 2.30.10//
CALSCALE:GREGORIAN
METHOD:PUBLISH
UID:2bb3f6fb-a001-4e7d-a582-bde2dbca4636
X-WR-CALDESC:Join Jackson County CASA for a Volunteer Roundtable Lunch at t
 he CASA office (2544 Holmes\, KCMO)! Volunteer Roundtables are an opportun
 ity to learn from and get to know CASA staff and ask any questions.
X-WR-RELCALID:be73369ba86caaa0c2d632204846b07d
X-WR-TIMEZONE:America/Chicago
BEGIN:VTIMEZONE
TZID:America/Chicago
BEGIN:STANDARD
TZNAME:CST
DTSTART:20221106T020000
TZOFFSETFROM:-0500
TZOFFSETTO:-0600
RDATE:20231105T020000
RDATE:20241103T020000
END:STANDARD
BEGIN:DAYLIGHT
TZNAME:CDT
DTSTART:20230312T020000
TZOFFSETFROM:-0600
TZOFFSETTO:-0500
RDATE:20240310T020000
END:DAYLIGHT
END:VTIMEZONE
BEGIN:VEVENT
UID:fbb77f0d-f6de-44dc-8214-a961d6eee6f2
DTSTAMP:20260422T150428Z
DESCRIPTION:Join Jackson County CASA for a Volunteer Roundtable Lunch at th
 e CASA office (2544 Holmes\, KCMO)! Volunteer Roundtables are an opportuni
 ty to learn from and get to know CASA staff and ask any questions.
DTSTART;TZID=America/Chicago:20230524T173000
DTEND;TZID=America/Chicago:20230524T190000
LOCATION:
SUMMARY:Volunteer Roundtable
END:VEVENT
END:VCALENDAR
