BEGIN:VCALENDAR
VERSION:2.0
PRODID:-//casakc.org//NONSGML kigkonsult.se iCalcreator 2.30.10//
CALSCALE:GREGORIAN
METHOD:PUBLISH
UID:4a1faee1-47c2-4c99-8dfa-8f8eb1b62743
X-WR-CALDESC:
X-WR-RELCALID:fe9bf1445c77cca9719d5b9b4bace3d6
X-WR-TIMEZONE:America/Chicago
BEGIN:VTIMEZONE
TZID:America/Chicago
BEGIN:STANDARD
TZNAME:CST
DTSTART:20221106T020000
TZOFFSETFROM:-0500
TZOFFSETTO:-0600
RDATE:20231105T020000
RDATE:20241103T020000
END:STANDARD
BEGIN:DAYLIGHT
TZNAME:CDT
DTSTART:20230312T020000
TZOFFSETFROM:-0600
TZOFFSETTO:-0500
RDATE:20240310T020000
END:DAYLIGHT
END:VTIMEZONE
BEGIN:VEVENT
UID:43eadefa-a2a2-4710-819d-e5a89482a896
DTSTAMP:20260422T135704Z
DESCRIPTION:
DTSTART;TZID=America/Chicago:20230623T120000
DTEND;TZID=America/Chicago:20230623T130000
LOCATION:
SUMMARY:Board Meeting
END:VEVENT
END:VCALENDAR
