BEGIN:VCALENDAR
VERSION:2.0
PRODID:-//casakc.org//NONSGML kigkonsult.se iCalcreator 2.30.10//
CALSCALE:GREGORIAN
METHOD:PUBLISH
UID:3cb1ae98-db6a-4cc2-bc86-9c81b6ae150b
X-WR-CALDESC:Join us for a 30-minute online no-obligation information sessi
 on on what it means to be a CASA volunteer. Attending an information sessi
 on is a prerequisite for attending CASA Volunteer Training.\n\nTo register
  for this info session\, email Volunteer Program Specialist Kara Strickler
  at kstrickler@jacksoncountycasa-mo.org or click the Register Now button a
 bove.
X-WR-RELCALID:f72659b46c741e5411d9efaf6058de7d
X-WR-TIMEZONE:America/Chicago
BEGIN:VTIMEZONE
TZID:America/Chicago
BEGIN:STANDARD
TZNAME:CST
DTSTART:20221106T020000
TZOFFSETFROM:-0500
TZOFFSETTO:-0600
RDATE:20231105T020000
RDATE:20241103T020000
END:STANDARD
BEGIN:DAYLIGHT
TZNAME:CDT
DTSTART:20230312T020000
TZOFFSETFROM:-0600
TZOFFSETTO:-0500
RDATE:20240310T020000
END:DAYLIGHT
END:VTIMEZONE
BEGIN:VEVENT
UID:32941b32-657f-4977-b0b7-3bbed9775e17
DTSTAMP:20260422T115722Z
DESCRIPTION:Join us for a 30-minute online no-obligation information sessio
 n on what it means to be a CASA volunteer. Attending an information sessio
 n is a prerequisite for attending CASA Volunteer Training.\n\nTo register 
 for this info session\, email Volunteer Program Specialist Kara Strickler 
 at kstrickler@jacksoncountycasa-mo.org or click the Register Now button ab
 ove.
DTSTART;TZID=America/Chicago:20230726T120000
DTEND;TZID=America/Chicago:20230726T123000
LOCATION:Info sessions are conducted via Zoom. Please register to receive t
 he Zoom link.
SUMMARY:Virtual Volunteer Info Session
END:VEVENT
END:VCALENDAR
