BEGIN:VCALENDAR
VERSION:2.0
PRODID:-//casakc.org//NONSGML kigkonsult.se iCalcreator 2.30.10//
CALSCALE:GREGORIAN
METHOD:PUBLISH
UID:7056ebf3-90aa-4caa-85f0-bced6f57d588
X-WR-CALDESC:
X-WR-RELCALID:caac4ded89da91a2082976da83289b35
X-WR-TIMEZONE:America/Chicago
BEGIN:VTIMEZONE
TZID:America/Chicago
BEGIN:STANDARD
TZNAME:CST
DTSTART:20221106T020000
TZOFFSETFROM:-0500
TZOFFSETTO:-0600
RDATE:20231105T020000
RDATE:20241103T020000
END:STANDARD
BEGIN:DAYLIGHT
TZNAME:CDT
DTSTART:20230312T020000
TZOFFSETFROM:-0600
TZOFFSETTO:-0500
RDATE:20240310T020000
END:DAYLIGHT
END:VTIMEZONE
BEGIN:VEVENT
UID:1cb155a6-aafe-481e-94e8-b1a757ccc3f7
DTSTAMP:20260422T102321Z
DESCRIPTION:
DTSTART;TZID=America/Chicago:20230825T120000
DTEND;TZID=America/Chicago:20230825T130000
LOCATION:
SUMMARY:Board Meeting
END:VEVENT
END:VCALENDAR
