BEGIN:VCALENDAR
VERSION:2.0
PRODID:-//casakc.org//NONSGML kigkonsult.se iCalcreator 2.30.10//
CALSCALE:GREGORIAN
METHOD:PUBLISH
UID:cc2ab7d1-e4d8-4eac-89b0-f3798cc66de8
X-WR-CALDESC:CASA Volunteers are invited to learn about substance abuse and
  harm reduction from First Call's Harm Reduction Specialist\, Casey Johnso
 n\, CPS\, AANG. First Call provides clinical\, educational\, and preventio
 n services to individuals and families in Greater Kansas City impacted by 
 substance use disorders. Their prevention and recovery services impact ove
 r 60\,000 individuals each year in the Kansas City area. Email Volunteer P
 rogram Specialist Kara Strickler to RSVP.
X-WR-RELCALID:30bcff49ce8c17df922166b1e44996da
X-WR-TIMEZONE:America/Chicago
BEGIN:VTIMEZONE
TZID:America/Chicago
BEGIN:STANDARD
TZNAME:CST
DTSTART:20221106T020000
TZOFFSETFROM:-0500
TZOFFSETTO:-0600
RDATE:20231105T020000
RDATE:20241103T020000
END:STANDARD
BEGIN:DAYLIGHT
TZNAME:CDT
DTSTART:20230312T020000
TZOFFSETFROM:-0600
TZOFFSETTO:-0500
RDATE:20240310T020000
END:DAYLIGHT
END:VTIMEZONE
BEGIN:VEVENT
UID:8fde2e20-d0b5-43c6-a5b7-700ae2a49e45
DTSTAMP:20260422T101527Z
DESCRIPTION:CASA Volunteers are invited to learn about substance abuse and 
 harm reduction from First Call's Harm Reduction Specialist\, Casey Johnson
 \, CPS\, AANG. First Call provides clinical\, educational\, and prevention
  services to individuals and families in Greater Kansas City impacted by s
 ubstance use disorders. Their prevention and recovery services impact over
  60\,000 individuals each year in the Kansas City area. Email Volunteer Pr
 ogram Specialist Kara Strickler to RSVP.
DTSTART;TZID=America/Chicago:20230830T120000
DTEND;TZID=America/Chicago:20230830T130000
LOCATION:Jackson County CASA Office or Zoom
SUMMARY:Continuing Education: First Call
END:VEVENT
END:VCALENDAR
