BEGIN:VCALENDAR
VERSION:2.0
PRODID:-//casakc.org//NONSGML kigkonsult.se iCalcreator 2.30.10//
CALSCALE:GREGORIAN
METHOD:PUBLISH
UID:e7fc0811-b598-40bb-bfab-dc2055cd853f
X-WR-CALDESC:Mark your calendar for an exciting community fundraiser on Thu
 rsday\, September 14\, from 5-10 p.m. at Iron Kettle Brewing (508 N Main S
 t.\, Grain Valley\, MO 64029)! This event is hosted by CASA Case Superviso
 r Westy Gilbert and Brian Fenstermaker\, co-owners of Iron Kettle Brewing.
  At 5:00 p.m.\, Brian will showcase three sixtel kegs of his Rock Star Sel
 tzer\, Seasonal Candy Apple\, and a Pilsner\, as well as a Margarita on th
 e Rocks. All proceeds from sales of these drinks\, plus 10% of all proceed
 s during the evening\, will go directly to CASA. Bring a friend or two\, g
 rab a bite to eat\, and enjoy some drinks while supporting Jackson County 
 CASA!
X-WR-RELCALID:14090bf6d9e76bc7a0688421886e4639
X-WR-TIMEZONE:America/Chicago
BEGIN:VTIMEZONE
TZID:America/Chicago
BEGIN:STANDARD
TZNAME:CST
DTSTART:20221106T020000
TZOFFSETFROM:-0500
TZOFFSETTO:-0600
RDATE:20231105T020000
RDATE:20241103T020000
END:STANDARD
BEGIN:DAYLIGHT
TZNAME:CDT
DTSTART:20230312T020000
TZOFFSETFROM:-0600
TZOFFSETTO:-0500
RDATE:20240310T020000
RDATE:20250309T020000
END:DAYLIGHT
END:VTIMEZONE
BEGIN:VEVENT
UID:efc0ed5a-4358-4231-8da0-ecb0da5cb5b3
DTSTAMP:20260422T084652Z
DESCRIPTION:Mark your calendar for an exciting community fundraiser on Thur
 sday\, September 14\, from 5-10 p.m. at Iron Kettle Brewing (508 N Main St
 .\, Grain Valley\, MO 64029)! This event is hosted by CASA Case Supervisor
  Westy Gilbert and Brian Fenstermaker\, co-owners of Iron Kettle Brewing. 
 At 5:00 p.m.\, Brian will showcase three sixtel kegs of his Rock Star Selt
 zer\, Seasonal Candy Apple\, and a Pilsner\, as well as a Margarita on the
  Rocks. All proceeds from sales of these drinks\, plus 10% of all proceeds
  during the evening\, will go directly to CASA. Bring a friend or two\, gr
 ab a bite to eat\, and enjoy some drinks while supporting Jackson County C
 ASA!
DTSTART;TZID=America/Chicago:20230914T170000
DTEND;TZID=America/Chicago:20230914T220000
LOCATION:508 N Main St\, Grain Valley\, MO 64029 US
SUMMARY:Iron Kettle Brewing Fundraiser
END:VEVENT
END:VCALENDAR
