BEGIN:VCALENDAR
VERSION:2.0
PRODID:-//casakc.org//NONSGML kigkonsult.se iCalcreator 2.30.10//
CALSCALE:GREGORIAN
METHOD:PUBLISH
UID:2742e3c9-876c-484c-b99d-0a7552487458
X-WR-CALDESC:CASA Volunteers\, mark your calendar for our next Volunteer Ha
 ppy Hour on Taco Tuesday\, September 19\, at the CASA office! This is a gr
 eat opportunity to meet other CASA Volunteers and staff while enjoying foo
 d and drinks. Please RSVP via Evite or to Volunteer Program Specialist Kar
 a Strickler.
X-WR-RELCALID:e003c20e8e5313a0904b48b536c502ee
X-WR-TIMEZONE:America/Chicago
BEGIN:VTIMEZONE
TZID:America/Chicago
BEGIN:STANDARD
TZNAME:CST
DTSTART:20221106T020000
TZOFFSETFROM:-0500
TZOFFSETTO:-0600
RDATE:20231105T020000
RDATE:20241103T020000
END:STANDARD
BEGIN:DAYLIGHT
TZNAME:CDT
DTSTART:20230312T020000
TZOFFSETFROM:-0600
TZOFFSETTO:-0500
RDATE:20240310T020000
RDATE:20250309T020000
END:DAYLIGHT
END:VTIMEZONE
BEGIN:VEVENT
UID:b46faba8-45f4-411b-819f-cc5aef065d57
DTSTAMP:20260422T081114Z
DESCRIPTION:CASA Volunteers\, mark your calendar for our next Volunteer Hap
 py Hour on Taco Tuesday\, September 19\, at the CASA office! This is a gre
 at opportunity to meet other CASA Volunteers and staff while enjoying food
  and drinks. Please RSVP via Evite or to Volunteer Program Specialist Kara
  Strickler.
DTSTART;TZID=America/Chicago:20230919T170000
DTEND;TZID=America/Chicago:20230919T190000
LOCATION:2544 Holmes\, Kansas City\, MO 64108 US
SUMMARY:Taco Tuesday Volunteer Happy Hour
END:VEVENT
END:VCALENDAR
