BEGIN:VCALENDAR
VERSION:2.0
PRODID:-//casakc.org//NONSGML kigkonsult.se iCalcreator 2.30.10//
CALSCALE:GREGORIAN
METHOD:PUBLISH
UID:eeb5aa49-b7ca-4f3b-a5a7-dc4596557e66
X-WR-CALDESC:
X-WR-RELCALID:f827b0cef54579c5175ebdd58147c1c7
X-WR-TIMEZONE:America/Chicago
BEGIN:VTIMEZONE
TZID:America/Chicago
BEGIN:STANDARD
TZNAME:CST
DTSTART:20221106T020000
TZOFFSETFROM:-0500
TZOFFSETTO:-0600
RDATE:20231105T020000
RDATE:20241103T020000
END:STANDARD
BEGIN:DAYLIGHT
TZNAME:CDT
DTSTART:20230312T020000
TZOFFSETFROM:-0600
TZOFFSETTO:-0500
RDATE:20240310T020000
RDATE:20250309T020000
END:DAYLIGHT
END:VTIMEZONE
BEGIN:VEVENT
UID:6d060061-7563-44ef-8918-19812a6f3796
DTSTAMP:20260422T084920Z
DESCRIPTION:
DTSTART;TZID=America/Chicago:20230922T120000
DTEND;TZID=America/Chicago:20230922T130000
LOCATION:
SUMMARY:Board Meeting
END:VEVENT
END:VCALENDAR
