BEGIN:VCALENDAR
VERSION:2.0
PRODID:-//casakc.org//NONSGML kigkonsult.se iCalcreator 2.30.10//
CALSCALE:GREGORIAN
METHOD:PUBLISH
UID:1cd06793-3ee4-42b6-914c-e7f610072ab3
X-WR-CALDESC:This is a fun opportunity for CASA Volunteers to sit back\, re
 lax\, and earn continuing education credit while we watch the movie Instan
 t Family. This endearing movie is rated PG-13 and is approximately two hou
 rs long. You're welcome to bring your own kids or family with you. Movie s
 nacks will be provided!
X-WR-RELCALID:4943e1f8e31e81eb65fa5e7b64e3c3b0
X-WR-TIMEZONE:America/Chicago
BEGIN:VTIMEZONE
TZID:America/Chicago
BEGIN:STANDARD
TZNAME:CST
DTSTART:20221106T020000
TZOFFSETFROM:-0500
TZOFFSETTO:-0600
RDATE:20231105T020000
RDATE:20241103T020000
END:STANDARD
BEGIN:DAYLIGHT
TZNAME:CDT
DTSTART:20230312T020000
TZOFFSETFROM:-0600
TZOFFSETTO:-0500
RDATE:20240310T020000
RDATE:20250309T020000
END:DAYLIGHT
END:VTIMEZONE
BEGIN:VEVENT
UID:affe84ea-161b-4629-a833-1529bd1591d6
DTSTAMP:20260422T084926Z
DESCRIPTION:This is a fun opportunity for CASA Volunteers to sit back\, rel
 ax\, and earn continuing education credit while we watch the movie Instant
  Family. This endearing movie is rated PG-13 and is approximately two hour
 s long. You're welcome to bring your own kids or family with you. Movie sn
 acks will be provided!
DTSTART;TZID=America/Chicago:20230930T150000
DTEND;TZID=America/Chicago:20230930T173000
LOCATION:
SUMMARY:CASA Volunteer Movie Night
END:VEVENT
END:VCALENDAR
