BEGIN:VCALENDAR
VERSION:2.0
PRODID:-//casakc.org//NONSGML kigkonsult.se iCalcreator 2.30.10//
CALSCALE:GREGORIAN
METHOD:PUBLISH
UID:806a6179-bd63-4a54-b3bf-fb9cb4db7fce
X-WR-CALDESC:CASA Volunteers are invited to participate in an informal Volu
 nteer Chat! These monthly chats take place on the first Tuesday of each mo
 nth. This will give you the opportunity to meet other CASA Volunteers and 
 chat with CASA staff. Feel free to bring lunch with you.
X-WR-RELCALID:3da8c8438fa06e92b5333e05009feea7
X-WR-TIMEZONE:America/Chicago
BEGIN:VTIMEZONE
TZID:America/Chicago
BEGIN:STANDARD
TZNAME:CST
DTSTART:20221106T020000
TZOFFSETFROM:-0500
TZOFFSETTO:-0600
RDATE:20231105T020000
RDATE:20241103T020000
END:STANDARD
BEGIN:DAYLIGHT
TZNAME:CDT
DTSTART:20230312T020000
TZOFFSETFROM:-0600
TZOFFSETTO:-0500
RDATE:20240310T020000
RDATE:20250309T020000
END:DAYLIGHT
END:VTIMEZONE
BEGIN:VEVENT
UID:b395c508-ce56-434d-b01f-ccc21e22f7fa
DTSTAMP:20260422T014610Z
DESCRIPTION:CASA Volunteers are invited to participate in an informal Volun
 teer Chat! These monthly chats take place on the first Tuesday of each mon
 th. This will give you the opportunity to meet other CASA Volunteers and c
 hat with CASA staff. Feel free to bring lunch with you.
DTSTART;TZID=America/Chicago:20231003T120000
DTEND;TZID=America/Chicago:20231003T130000
LOCATION:Jackson County CASA Office or Zoom
SUMMARY:Volunteer Chat
END:VEVENT
END:VCALENDAR
