BEGIN:VCALENDAR
VERSION:2.0
PRODID:-//casakc.org//NONSGML kigkonsult.se iCalcreator 2.30.10//
CALSCALE:GREGORIAN
METHOD:PUBLISH
UID:bbfe725c-01cd-4483-8f00-ca753358dea8
X-WR-CALDESC:Join us for a 30-minute online no-obligation information sessi
 on on what it means to be a CASA volunteer. Attending an information sessi
 on is a prerequisite for attending CASA Volunteer Training.\n\nTo register
  for this info session\, email Volunteer Program Specialist Kara Strickler
  at kstrickler@jacksoncountycasa-mo.org or click the Register Now button a
 bove.
X-WR-RELCALID:4ebd680c6959c6890a977987e77ae36c
X-WR-TIMEZONE:America/Chicago
BEGIN:VTIMEZONE
TZID:America/Chicago
BEGIN:STANDARD
TZNAME:CST
DTSTART:20221106T020000
TZOFFSETFROM:-0500
TZOFFSETTO:-0600
RDATE:20231105T020000
RDATE:20241103T020000
END:STANDARD
BEGIN:DAYLIGHT
TZNAME:CDT
DTSTART:20230312T020000
TZOFFSETFROM:-0600
TZOFFSETTO:-0500
RDATE:20240310T020000
RDATE:20250309T020000
END:DAYLIGHT
END:VTIMEZONE
BEGIN:VEVENT
UID:f4cec818-d114-4a2e-85e2-a011825f5a22
DTSTAMP:20260422T064502Z
DESCRIPTION:Join us for a 30-minute online no-obligation information sessio
 n on what it means to be a CASA volunteer. Attending an information sessio
 n is a prerequisite for attending CASA Volunteer Training.\n\nTo register 
 for this info session\, email Volunteer Program Specialist Kara Strickler 
 at kstrickler@jacksoncountycasa-mo.org or click the Register Now button ab
 ove.
DTSTART;TZID=America/Chicago:20231004T120000
DTEND;TZID=America/Chicago:20231004T123000
LOCATION:Info sessions are conducted via Zoom. Please register to receive t
 he Zoom link.
SUMMARY:Virtual Volunteer Info Session
END:VEVENT
END:VCALENDAR
