BEGIN:VCALENDAR
VERSION:2.0
PRODID:-//casakc.org//NONSGML kigkonsult.se iCalcreator 2.30.10//
CALSCALE:GREGORIAN
METHOD:PUBLISH
UID:d9c8733b-da98-4517-a9f4-61501660cda9
X-WR-CALDESC:Join us for Cocktails for CASA - A Night of Hope\, Jackson Cou
 nty CASA's 5th annual auction fundraiser on Friday\, October 6\, from 6-8 
 p.m. at The Guild KC (1621 Locust St.\, KCMO). We will have music\, signat
 ure cocktails and mocktails\, hors d'oeuvres and desserts\, plus unique si
 lent and live auction items available to bid on. The event funds CASA's wo
 rk to train and support community volunteers to ensure each child we serve
  can grow up in a safe and permanent home. Reserved seating and sponsorshi
 p opportunities are available through our ticketing site: https://www.jack
 soncountycasa-mo.org/news-events/cocktails-for-casa.html.
X-WR-RELCALID:3f266c076e13c84d94b2999c8d2d84ed
X-WR-TIMEZONE:America/Chicago
BEGIN:VTIMEZONE
TZID:America/Chicago
BEGIN:STANDARD
TZNAME:CST
DTSTART:20221106T020000
TZOFFSETFROM:-0500
TZOFFSETTO:-0600
RDATE:20231105T020000
RDATE:20241103T020000
END:STANDARD
BEGIN:DAYLIGHT
TZNAME:CDT
DTSTART:20230312T020000
TZOFFSETFROM:-0600
TZOFFSETTO:-0500
RDATE:20240310T020000
RDATE:20250309T020000
END:DAYLIGHT
END:VTIMEZONE
BEGIN:VEVENT
UID:10d1eefc-5eb8-458f-a1c5-d26dc240f853
DTSTAMP:20260422T065109Z
DESCRIPTION:Join us for Cocktails for CASA - A Night of Hope\, Jackson Coun
 ty CASA's 5th annual auction fundraiser on Friday\, October 6\, from 6-8 p
 .m. at The Guild KC (1621 Locust St.\, KCMO). We will have music\, signatu
 re cocktails and mocktails\, hors d'oeuvres and desserts\, plus unique sil
 ent and live auction items available to bid on. The event funds CASA's wor
 k to train and support community volunteers to ensure each child we serve 
 can grow up in a safe and permanent home. Reserved seating and sponsorship
  opportunities are available through our ticketing site: https://www.jacks
 oncountycasa-mo.org/news-events/cocktails-for-casa.html.
DTSTART;TZID=America/Chicago:20231006T180000
DTEND;TZID=America/Chicago:20231006T200000
LOCATION:1621 Locust\, Kansas City\, MO 64108 US
SUMMARY:Cocktails for CASA - A Night of Hope
END:VEVENT
END:VCALENDAR
