BEGIN:VCALENDAR
VERSION:2.0
PRODID:-//casakc.org//NONSGML kigkonsult.se iCalcreator 2.30.10//
CALSCALE:GREGORIAN
METHOD:PUBLISH
UID:8063df51-db78-4950-9d8c-0cf4bffbc187
X-WR-CALDESC:CASA Volunteers and staff are invited to our final Book Club m
 eeting of the year on Wednesday\, October 18\, from 5:30-7 p.m. at the CAS
 A office. We will discuss the book Caste: The Origins of Our Discontents b
 y Isabel Wilkerson. Volunteers will receive continuing education hours for
  the meeting. Additionally\, up to four continuing education hours annuall
 y can be earned by reading relevant books\, like this one.
X-WR-RELCALID:7cce603926de8a19484152bbd2f08c60
X-WR-TIMEZONE:America/Chicago
BEGIN:VTIMEZONE
TZID:America/Chicago
BEGIN:STANDARD
TZNAME:CST
DTSTART:20221106T020000
TZOFFSETFROM:-0500
TZOFFSETTO:-0600
RDATE:20231105T020000
RDATE:20241103T020000
END:STANDARD
BEGIN:DAYLIGHT
TZNAME:CDT
DTSTART:20230312T020000
TZOFFSETFROM:-0600
TZOFFSETTO:-0500
RDATE:20240310T020000
RDATE:20250309T020000
END:DAYLIGHT
END:VTIMEZONE
BEGIN:VEVENT
UID:7eaef74b-f61c-40a6-aff1-8e4e10790e1b
DTSTAMP:20260422T065322Z
DESCRIPTION:CASA Volunteers and staff are invited to our final Book Club me
 eting of the year on Wednesday\, October 18\, from 5:30-7 p.m. at the CASA
  office. We will discuss the book Caste: The Origins of Our Discontents by
  Isabel Wilkerson. Volunteers will receive continuing education hours for 
 the meeting. Additionally\, up to four continuing education hours annually
  can be earned by reading relevant books\, like this one.
DTSTART;TZID=America/Chicago:20231018T173000
DTEND;TZID=America/Chicago:20231018T190000
LOCATION:2544 Holmes\, Kansas City\, MO 64108 US
SUMMARY:CASA Volunteer Book Club
END:VEVENT
END:VCALENDAR
