BEGIN:VCALENDAR
VERSION:2.0
PRODID:-//casakc.org//NONSGML kigkonsult.se iCalcreator 2.30.10//
CALSCALE:GREGORIAN
METHOD:PUBLISH
UID:e471c9ef-c359-45e7-a4b8-f42f8e4c72df
X-WR-CALDESC:
X-WR-RELCALID:310bb035d0d6fe300bdeb398b8ae15d9
X-WR-TIMEZONE:America/Chicago
BEGIN:VTIMEZONE
TZID:America/Chicago
BEGIN:STANDARD
TZNAME:CST
DTSTART:20221106T020000
TZOFFSETFROM:-0500
TZOFFSETTO:-0600
RDATE:20231105T020000
RDATE:20241103T020000
END:STANDARD
BEGIN:DAYLIGHT
TZNAME:CDT
DTSTART:20230312T020000
TZOFFSETFROM:-0600
TZOFFSETTO:-0500
RDATE:20240310T020000
RDATE:20250309T020000
END:DAYLIGHT
END:VTIMEZONE
BEGIN:VEVENT
UID:482f6653-60f0-40b9-bb14-6645e2ae9da8
DTSTAMP:20260422T065102Z
DESCRIPTION:
DTSTART;TZID=America/Chicago:20231027T120000
DTEND;TZID=America/Chicago:20231027T130000
LOCATION:
SUMMARY:Board Meeting
END:VEVENT
END:VCALENDAR
