BEGIN:VCALENDAR
VERSION:2.0
PRODID:-//casakc.org//NONSGML kigkonsult.se iCalcreator 2.30.10//
CALSCALE:GREGORIAN
METHOD:PUBLISH
UID:983541a8-6970-46fe-a77a-cf096dc5a430
X-WR-CALDESC:
X-WR-RELCALID:ad0bdead2a54eff79e68e3a296df7451
X-WR-TIMEZONE:America/Chicago
BEGIN:VTIMEZONE
TZID:America/Chicago
BEGIN:STANDARD
TZNAME:CST
DTSTART:20231105T020000
TZOFFSETFROM:-0500
TZOFFSETTO:-0600
RDATE:20241103T020000
END:STANDARD
BEGIN:DAYLIGHT
TZNAME:CDT
DTSTART:20230312T020000
TZOFFSETFROM:-0600
TZOFFSETTO:-0500
RDATE:20240310T020000
RDATE:20250309T020000
END:DAYLIGHT
END:VTIMEZONE
BEGIN:VEVENT
UID:71d363a3-148c-4e85-8dac-bb24f329af9c
DTSTAMP:20260422T045119Z
DESCRIPTION:
DTSTART;TZID=America/Chicago:20231109T173000
DTEND;TZID=America/Chicago:20231109T190000
LOCATION:
SUMMARY:Nuts & Bolts Training
END:VEVENT
END:VCALENDAR
