BEGIN:VCALENDAR
VERSION:2.0
PRODID:-//casakc.org//NONSGML kigkonsult.se iCalcreator 2.30.10//
CALSCALE:GREGORIAN
METHOD:PUBLISH
UID:08b5c395-cc75-469d-aaae-43d511e69da2
X-WR-CALDESC:
X-WR-RELCALID:4165240d4aa0d4e667c007fbc434cf8c
X-WR-TIMEZONE:America/Chicago
BEGIN:VTIMEZONE
TZID:America/Chicago
BEGIN:STANDARD
TZNAME:CST
DTSTART:20231105T020000
TZOFFSETFROM:-0500
TZOFFSETTO:-0600
RDATE:20241103T020000
END:STANDARD
BEGIN:DAYLIGHT
TZNAME:CDT
DTSTART:20230312T020000
TZOFFSETFROM:-0600
TZOFFSETTO:-0500
RDATE:20240310T020000
RDATE:20250309T020000
END:DAYLIGHT
END:VTIMEZONE
BEGIN:VEVENT
UID:4e630638-cb99-49f5-8b62-3fb62ee972a3
DTSTAMP:20260421T103023Z
DESCRIPTION:
DTSTART;TZID=America/Chicago:20231123T050000
DTEND;TZID=America/Chicago:20231123T050001
LOCATION:
SUMMARY:Thanksgiving - CASA Office Closed
END:VEVENT
END:VCALENDAR
