BEGIN:VCALENDAR
VERSION:2.0
PRODID:-//casakc.org//NONSGML kigkonsult.se iCalcreator 2.30.10//
CALSCALE:GREGORIAN
METHOD:PUBLISH
UID:2b61d5e0-3dd8-4dd9-adcb-2c6f67962b9f
X-WR-CALDESC:Join us at Kendra Scott on the Country Club Plaza to shop for 
 stylish jewelry and support CASA at the same time.  Kendra Scott will dona
 te 20% of all in-person sales during this time\, and 20% of all online sal
 es using our code on 12/13 and 12/14. We'll have refreshments and treats f
 or you to enjoy while you shop!
X-WR-RELCALID:287c20a24810c8585857e8855dc0e593
X-WR-TIMEZONE:America/Chicago
BEGIN:VTIMEZONE
TZID:America/Chicago
BEGIN:STANDARD
TZNAME:CST
DTSTART:20231105T020000
TZOFFSETFROM:-0500
TZOFFSETTO:-0600
RDATE:20241103T020000
END:STANDARD
BEGIN:DAYLIGHT
TZNAME:CDT
DTSTART:20230312T020000
TZOFFSETFROM:-0600
TZOFFSETTO:-0500
RDATE:20240310T020000
RDATE:20250309T020000
END:DAYLIGHT
END:VTIMEZONE
BEGIN:VEVENT
UID:439633a9-cf8b-4fa7-8481-fa15e875a58b
DTSTAMP:20260422T032724Z
DESCRIPTION:Join us at Kendra Scott on the Country Club Plaza to shop for s
 tylish jewelry and support CASA at the same time.  Kendra Scott will donat
 e 20% of all in-person sales during this time\, and 20% of all online sale
 s using our code on 12/13 and 12/14. We'll have refreshments and treats fo
 r you to enjoy while you shop!
DTSTART;TZID=America/Chicago:20231213T170000
DTEND;TZID=America/Chicago:20231213T190000
LOCATION:412 Nichols Road\, 1021 NE Colburn Rd\, Kansas City\, MO 64112 US
SUMMARY:Kendra Gives Back
END:VEVENT
END:VCALENDAR
