BEGIN:VCALENDAR
VERSION:2.0
PRODID:-//casakc.org//NONSGML kigkonsult.se iCalcreator 2.30.10//
CALSCALE:GREGORIAN
METHOD:PUBLISH
UID:15661fa5-7e6e-421f-a3c9-36aa6d682deb
X-WR-CALDESC:Every Tuesday is Giving Tuesday at a store named STUFF in Broo
 kside! Beginning Tuesday\, November 28\, and every Tuesday through Decembe
 r 19th\, a store named STUFF will donate 15% of its online and in-store sa
 les on TUESDAYS to 5 local charities\, including Jackson County CASA.  Sho
 p for unique gifts and artisan jewelry and support CASA and other local ch
 arities at the same time.
X-WR-RELCALID:eed3d67f0132f14b901ace68327b3edf
X-WR-TIMEZONE:America/Chicago
BEGIN:VTIMEZONE
TZID:America/Chicago
BEGIN:STANDARD
TZNAME:CST
DTSTART:20231105T020000
TZOFFSETFROM:-0500
TZOFFSETTO:-0600
RDATE:20241103T020000
END:STANDARD
BEGIN:DAYLIGHT
TZNAME:CDT
DTSTART:20230312T020000
TZOFFSETFROM:-0600
TZOFFSETTO:-0500
RDATE:20240310T020000
RDATE:20250309T020000
END:DAYLIGHT
END:VTIMEZONE
BEGIN:VEVENT
UID:1f2c7c19-d6e8-468c-9a7a-83b7eead5e04
DTSTAMP:20260422T034231Z
DESCRIPTION:Every Tuesday is Giving Tuesday at a store named STUFF in Brook
 side! Beginning Tuesday\, November 28\, and every Tuesday through December
  19th\, a store named STUFF will donate 15% of its online and in-store sal
 es on TUESDAYS to 5 local charities\, including Jackson County CASA.  Shop
  for unique gifts and artisan jewelry and support CASA and other local cha
 rities at the same time.
DTSTART;TZID=America/Chicago:20231219T100000
DTEND;TZID=America/Chicago:20231219T180000
LOCATION:316 West 63rd Street\, Kansas City\, MO 64131 US
SUMMARY:Season of Giving at STUFF
END:VEVENT
END:VCALENDAR
