BEGIN:VCALENDAR
VERSION:2.0
PRODID:-//casakc.org//NONSGML kigkonsult.se iCalcreator 2.30.10//
CALSCALE:GREGORIAN
METHOD:PUBLISH
UID:6bf035bc-6f2c-44fb-abee-23c25e069cbd
X-WR-CALDESC:
X-WR-RELCALID:8bb3db116cf203c59983420133cb4741
X-WR-TIMEZONE:America/Chicago
BEGIN:VTIMEZONE
TZID:America/Chicago
BEGIN:STANDARD
TZNAME:CST
DTSTART:20231105T020000
TZOFFSETFROM:-0500
TZOFFSETTO:-0600
RDATE:20241103T020000
END:STANDARD
BEGIN:DAYLIGHT
TZNAME:CDT
DTSTART:20230312T020000
TZOFFSETFROM:-0600
TZOFFSETTO:-0500
RDATE:20240310T020000
RDATE:20250309T020000
END:DAYLIGHT
END:VTIMEZONE
BEGIN:VEVENT
UID:40daf923-9208-4550-88f9-27a2f55c2e61
DTSTAMP:20260422T034053Z
DESCRIPTION:
DTSTART;TZID=America/Chicago:20231222T120000
DTEND;TZID=America/Chicago:20231222T130000
LOCATION:
SUMMARY:Board Meeting
END:VEVENT
END:VCALENDAR
