BEGIN:VCALENDAR
VERSION:2.0
PRODID:-//casakc.org//NONSGML kigkonsult.se iCalcreator 2.30.10//
CALSCALE:GREGORIAN
METHOD:PUBLISH
UID:35bca910-ebb1-45f9-ab18-01443e1c09e7
X-WR-CALDESC:All CASA Volunteer must complete Volunteer Training prior to b
 eing assigned to a case. To learn about the role and requirements of being
  a CASA Volunteer and to sign up for an Info Session or Interview\, which 
 is a prerequisite to Volunteer Training\, visit https://www.jacksoncountyc
 asa-mo.org/volunteer/.
X-WR-RELCALID:8bc2089c3ced8e3ac16f02a819e6c1d6
X-WR-TIMEZONE:America/Chicago
BEGIN:VTIMEZONE
TZID:America/Chicago
BEGIN:STANDARD
TZNAME:CST
DTSTART:20231105T020000
TZOFFSETFROM:-0500
TZOFFSETTO:-0600
RDATE:20241103T020000
END:STANDARD
BEGIN:DAYLIGHT
TZNAME:CDT
DTSTART:20230312T020000
TZOFFSETFROM:-0600
TZOFFSETTO:-0500
RDATE:20240310T020000
RDATE:20250309T020000
END:DAYLIGHT
END:VTIMEZONE
BEGIN:VEVENT
UID:959cbc69-4a81-41ef-8d72-da4d1f6b033b
DTSTAMP:20260421T173657Z
DESCRIPTION:All CASA Volunteer must complete Volunteer Training prior to be
 ing assigned to a case. To learn about the role and requirements of being 
 a CASA Volunteer and to sign up for an Info Session or Interview\, which i
 s a prerequisite to Volunteer Training\, visit https://www.jacksoncountyca
 sa-mo.org/volunteer/.
DTSTART;TZID=America/Chicago:20240122T170000
DTEND;TZID=America/Chicago:20240122T200000
LOCATION:
SUMMARY:January Pre-Service Volunteer Training
END:VEVENT
END:VCALENDAR
