BEGIN:VCALENDAR
VERSION:2.0
PRODID:-//casakc.org//NONSGML kigkonsult.se iCalcreator 2.30.10//
CALSCALE:GREGORIAN
METHOD:PUBLISH
UID:cbb77ec8-9a82-44fc-92e0-6b3509a079ec
X-WR-CALDESC:CASA Volunteers are invited to participate in this informal Vo
 lunteer Forum! These monthly forums provide an opportunity to meet other C
 ASA Volunteers\, hear from CASA staff\, and ask questions about your case(
 s). Active volunteers can attend at the CASA office or online via Microsof
 t Teams.
X-WR-RELCALID:a6b413cee892f54d430d40952036370d
X-WR-TIMEZONE:America/Chicago
BEGIN:VTIMEZONE
TZID:America/Chicago
BEGIN:STANDARD
TZNAME:CST
DTSTART:20231105T020000
TZOFFSETFROM:-0500
TZOFFSETTO:-0600
RDATE:20241103T020000
END:STANDARD
BEGIN:DAYLIGHT
TZNAME:CDT
DTSTART:20230312T020000
TZOFFSETFROM:-0600
TZOFFSETTO:-0500
RDATE:20240310T020000
RDATE:20250309T020000
END:DAYLIGHT
END:VTIMEZONE
BEGIN:VEVENT
UID:09b8efc2-73f1-4390-9f33-426b4d61fc10
DTSTAMP:20260422T033924Z
DESCRIPTION:CASA Volunteers are invited to participate in this informal Vol
 unteer Forum! These monthly forums provide an opportunity to meet other CA
 SA Volunteers\, hear from CASA staff\, and ask questions about your case(s
 ). Active volunteers can attend at the CASA office or online via Microsoft
  Teams.
DTSTART;TZID=America/Chicago:20240206T173000
DTEND;TZID=America/Chicago:20240206T183000
LOCATION:2544 Holmes\, Kansas City\, MO 64108 US
SUMMARY:Volunteer Forum
END:VEVENT
END:VCALENDAR
