BEGIN:VCALENDAR
VERSION:2.0
PRODID:-//casakc.org//NONSGML kigkonsult.se iCalcreator 2.30.10//
CALSCALE:GREGORIAN
METHOD:PUBLISH
UID:6ac4a09e-2495-47ac-bbaf-00c79b626d19
X-WR-CALDESC:CASA Volunteers are invited to learn about the ways Missouri's
  legislation impacts Jackson County CASA. We will discuss the basics of ho
 w legislation is adopted in Missouri and introduce opportunities to partic
 ipate in upcoming legislative events and advocacy with CASA in Jefferson C
 ity.
X-WR-RELCALID:9ee3aa1a215ece12daa0812ad9388396
X-WR-TIMEZONE:America/Chicago
BEGIN:VTIMEZONE
TZID:America/Chicago
BEGIN:STANDARD
TZNAME:CST
DTSTART:20231105T020000
TZOFFSETFROM:-0500
TZOFFSETTO:-0600
RDATE:20241103T020000
END:STANDARD
BEGIN:DAYLIGHT
TZNAME:CDT
DTSTART:20230312T020000
TZOFFSETFROM:-0600
TZOFFSETTO:-0500
RDATE:20240310T020000
RDATE:20250309T020000
END:DAYLIGHT
END:VTIMEZONE
BEGIN:VEVENT
UID:037c1f99-d369-44ef-aba6-5fc3225c2115
DTSTAMP:20260422T034025Z
DESCRIPTION:CASA Volunteers are invited to learn about the ways Missouri's 
 legislation impacts Jackson County CASA. We will discuss the basics of how
  legislation is adopted in Missouri and introduce opportunities to partici
 pate in upcoming legislative events and advocacy with CASA in Jefferson Ci
 ty.
DTSTART;TZID=America/Chicago:20240220T160000
DTEND;TZID=America/Chicago:20240220T170000
LOCATION:2544 Holmes\, Kansas City\, MO 64108 US
SUMMARY:Legislation Information Continuing Education Opportunity
END:VEVENT
END:VCALENDAR
