BEGIN:VCALENDAR
VERSION:2.0
PRODID:-//casakc.org//NONSGML kigkonsult.se iCalcreator 2.30.10//
CALSCALE:GREGORIAN
METHOD:PUBLISH
UID:8e82e8f2-fd29-4e23-89ce-9930a85dc704
X-WR-CALDESC:
X-WR-RELCALID:d85c86e3de00beb3a3cd19e2c77d1cd0
X-WR-TIMEZONE:America/Chicago
BEGIN:VTIMEZONE
TZID:America/Chicago
BEGIN:STANDARD
TZNAME:CST
DTSTART:20231105T020000
TZOFFSETFROM:-0500
TZOFFSETTO:-0600
RDATE:20241103T020000
END:STANDARD
BEGIN:DAYLIGHT
TZNAME:CDT
DTSTART:20230312T020000
TZOFFSETFROM:-0600
TZOFFSETTO:-0500
RDATE:20240310T020000
RDATE:20250309T020000
END:DAYLIGHT
END:VTIMEZONE
BEGIN:VEVENT
UID:0d462b11-68ca-479c-b4a5-bc065762e09f
DTSTAMP:20260422T034047Z
DESCRIPTION:
DTSTART;TZID=America/Chicago:20240223T120000
DTEND;TZID=America/Chicago:20240223T130000
LOCATION:
SUMMARY:Board Meeting
END:VEVENT
END:VCALENDAR
