BEGIN:VCALENDAR
VERSION:2.0
PRODID:-//casakc.org//NONSGML kigkonsult.se iCalcreator 2.30.10//
CALSCALE:GREGORIAN
METHOD:PUBLISH
UID:d8ef64ae-5f6e-4694-9f70-2a552c8c2708
X-WR-CALDESC:All CASA Volunteer must complete Volunteer Training prior to b
 eing assigned to a case. To learn about the role and requirements of being
  a CASA Volunteer and to sign up for an Info Session or Interview\, which 
 is a prerequisite to Volunteer Training\, visit https://www.jacksoncountyc
 asa-mo.org/volunteer/.
X-WR-RELCALID:e1d0d79c3e54f5ad5051c1d8f5763d04
X-WR-TIMEZONE:America/Chicago
BEGIN:VTIMEZONE
TZID:America/Chicago
BEGIN:STANDARD
TZNAME:CST
DTSTART:20231105T020000
TZOFFSETFROM:-0500
TZOFFSETTO:-0600
RDATE:20241103T020000
END:STANDARD
BEGIN:DAYLIGHT
TZNAME:CDT
DTSTART:20230312T020000
TZOFFSETFROM:-0600
TZOFFSETTO:-0500
RDATE:20240310T020000
RDATE:20250309T020000
END:DAYLIGHT
END:VTIMEZONE
BEGIN:VEVENT
UID:51bd7452-ac42-4af1-90ac-490ded953fd2
DTSTAMP:20260422T033524Z
DESCRIPTION:All CASA Volunteer must complete Volunteer Training prior to be
 ing assigned to a case. To learn about the role and requirements of being 
 a CASA Volunteer and to sign up for an Info Session or Interview\, which i
 s a prerequisite to Volunteer Training\, visit https://www.jacksoncountyca
 sa-mo.org/volunteer/.
DTSTART;TZID=America/Chicago:20240225T090000
DTEND;TZID=America/Chicago:20240225T170000
LOCATION:2544 Holmes\, Kansas City\, MO 64108 US
SUMMARY:Volunteer Training Boot Camp
END:VEVENT
END:VCALENDAR
