BEGIN:VCALENDAR
VERSION:2.0
PRODID:-//casakc.org//NONSGML kigkonsult.se iCalcreator 2.30.10//
CALSCALE:GREGORIAN
METHOD:PUBLISH
UID:85cc73e8-49a1-4ffe-8c7a-62537f88c461
X-WR-CALDESC:15% of sales on March 7th from 10:00 AM to 7:00 PM will be don
 ated to CASA. Snacks and sparkling beverages with Honorary Host Sherae Hon
 eycutt and CASA representatives will be served between 5:00 PM and 7:00 PM
 .
X-WR-RELCALID:e57a685be1d9b11db49433c3a957458d
X-WR-TIMEZONE:America/Chicago
BEGIN:VTIMEZONE
TZID:America/Chicago
BEGIN:STANDARD
TZNAME:CST
DTSTART:20231105T020000
TZOFFSETFROM:-0500
TZOFFSETTO:-0600
RDATE:20241103T020000
END:STANDARD
BEGIN:DAYLIGHT
TZNAME:CDT
DTSTART:20230312T020000
TZOFFSETFROM:-0600
TZOFFSETTO:-0500
RDATE:20240310T020000
RDATE:20250309T020000
END:DAYLIGHT
END:VTIMEZONE
BEGIN:VEVENT
UID:a53093d6-3da0-4050-9a4a-2f9fc036772d
DTSTAMP:20260422T050203Z
DESCRIPTION:15% of sales on March 7th from 10:00 AM to 7:00 PM will be dona
 ted to CASA. Snacks and sparkling beverages with Honorary Host Sherae Hone
 ycutt and CASA representatives will be served between 5:00 PM and 7:00 PM.
DTSTART;TZID=America/Chicago:20240307T170000
DTEND;TZID=America/Chicago:20240307T190000
LOCATION:EVEREVE at the Country Club Plaza\, 225 W 47th St.\, Kansas City\,
  MO 64112
SUMMARY:EVEREVE Fashion Fundraiser
END:VEVENT
END:VCALENDAR
