BEGIN:VCALENDAR
VERSION:2.0
PRODID:-//casakc.org//NONSGML kigkonsult.se iCalcreator 2.30.10//
CALSCALE:GREGORIAN
METHOD:PUBLISH
UID:df933077-7224-490d-9fdf-0e19a22c6f68
X-WR-CALDESC:All CASA Volunteer must complete Volunteer Training prior to b
 eing assigned to a case. To learn about the role and requirements of being
  a CASA Volunteer and to sign up for an Info Session or Interview\, which 
 is a prerequisite to Volunteer Training\, visit https://www.jacksoncountyc
 asa-mo.org/volunteer/.
X-WR-RELCALID:acf9b8bb487fd6aadd8e3ddb02b4ccf9
X-WR-TIMEZONE:America/Chicago
BEGIN:VTIMEZONE
TZID:America/Chicago
BEGIN:STANDARD
TZNAME:CST
DTSTART:20231105T020000
TZOFFSETFROM:-0500
TZOFFSETTO:-0600
RDATE:20241103T020000
END:STANDARD
BEGIN:DAYLIGHT
TZNAME:CDT
DTSTART:20240310T020000
TZOFFSETFROM:-0600
TZOFFSETTO:-0500
RDATE:20250309T020000
END:DAYLIGHT
END:VTIMEZONE
BEGIN:VEVENT
UID:e93f1330-438f-402d-8deb-fdbc0df8a373
DTSTAMP:20260422T045709Z
DESCRIPTION:All CASA Volunteer must complete Volunteer Training prior to be
 ing assigned to a case. To learn about the role and requirements of being 
 a CASA Volunteer and to sign up for an Info Session or Interview\, which i
 s a prerequisite to Volunteer Training\, visit https://www.jacksoncountyca
 sa-mo.org/volunteer/.
DTSTART;TZID=America/Chicago:20240318T170000
DTEND;TZID=America/Chicago:20240318T200000
LOCATION:
SUMMARY:March Pre-Service Volunteer Training
END:VEVENT
END:VCALENDAR
