BEGIN:VCALENDAR
VERSION:2.0
PRODID:-//casakc.org//NONSGML kigkonsult.se iCalcreator 2.30.10//
CALSCALE:GREGORIAN
METHOD:PUBLISH
UID:e0c695a7-9d9a-4dc1-b01d-de64df3edde7
X-WR-CALDESC:Join the Missouri CASA Association's upcoming Network Training
  Webinar. Participants will hear from Jenny Dodson-Weihl\, Director of Pre
 vention and Outreach with Missouri Network Against Child Abuse (formerly k
 nown as Missouri KidsFirst) to learn about their programs across the state
 . She will share how their organization leads and supports communities in 
 abuse prevention\, provides training to multi-disciplinary team members en
 gaged in child protection\, and advocates for public policies that address
  and prevent child abuse. This webinar is open to all CASA Volunteers and 
 staff throughout the state of Missouri. Click here to register.
X-WR-RELCALID:c7669dda7642aae72fb79f2f70624a3c
X-WR-TIMEZONE:America/Chicago
BEGIN:VTIMEZONE
TZID:America/Chicago
BEGIN:STANDARD
TZNAME:CST
DTSTART:20231105T020000
TZOFFSETFROM:-0500
TZOFFSETTO:-0600
RDATE:20241103T020000
END:STANDARD
BEGIN:DAYLIGHT
TZNAME:CDT
DTSTART:20240310T020000
TZOFFSETFROM:-0600
TZOFFSETTO:-0500
RDATE:20250309T020000
END:DAYLIGHT
END:VTIMEZONE
BEGIN:VEVENT
UID:3c6bdb26-866b-482e-bd42-a12cfb3856ba
DTSTAMP:20260422T045834Z
DESCRIPTION:Join the Missouri CASA Association's upcoming Network Training 
 Webinar. Participants will hear from Jenny Dodson-Weihl\, Director of Prev
 ention and Outreach with Missouri Network Against Child Abuse (formerly kn
 own as Missouri KidsFirst) to learn about their programs across the state.
  She will share how their organization leads and supports communities in a
 buse prevention\, provides training to multi-disciplinary team members eng
 aged in child protection\, and advocates for public policies that address 
 and prevent child abuse. This webinar is open to all CASA Volunteers and s
 taff throughout the state of Missouri. Click here to register.
DTSTART;TZID=America/Chicago:20240319T100000
DTEND;TZID=America/Chicago:20240319T110000
LOCATION:https://mocasa.coalitionmanager.org/eventmanager/onlinetraining/de
 tails/193
SUMMARY:Continuing Education: Missouri Network Against Child Abuse
END:VEVENT
END:VCALENDAR
