BEGIN:VCALENDAR
VERSION:2.0
PRODID:-//casakc.org//NONSGML kigkonsult.se iCalcreator 2.30.10//
CALSCALE:GREGORIAN
METHOD:PUBLISH
UID:cf589a4f-ebef-44e3-bccf-ceaa5fdf5fba
X-WR-CALDESC:
X-WR-RELCALID:cbf89c2353ccc8025412f02ee3a6cc81
X-WR-TIMEZONE:America/Chicago
BEGIN:VTIMEZONE
TZID:America/Chicago
BEGIN:STANDARD
TZNAME:CST
DTSTART:20231105T020000
TZOFFSETFROM:-0500
TZOFFSETTO:-0600
RDATE:20241103T020000
END:STANDARD
BEGIN:DAYLIGHT
TZNAME:CDT
DTSTART:20240310T020000
TZOFFSETFROM:-0600
TZOFFSETTO:-0500
RDATE:20250309T020000
END:DAYLIGHT
END:VTIMEZONE
BEGIN:VEVENT
UID:f2c3a3f3-79f8-4050-9450-46cd080dc42b
DTSTAMP:20260422T045834Z
DESCRIPTION:
DTSTART;TZID=America/Chicago:20240322T120000
DTEND;TZID=America/Chicago:20240322T130000
LOCATION:
SUMMARY:Board Meeting
END:VEVENT
END:VCALENDAR
