BEGIN:VCALENDAR
VERSION:2.0
PRODID:-//casakc.org//NONSGML kigkonsult.se iCalcreator 2.30.10//
CALSCALE:GREGORIAN
METHOD:PUBLISH
UID:0a5f8e14-1f84-4e54-b996-c52c12adf606
X-WR-CALDESC:
X-WR-RELCALID:35feeb8129c706c4442387e24e99aad4
X-WR-TIMEZONE:America/Chicago
BEGIN:VTIMEZONE
TZID:America/Chicago
BEGIN:STANDARD
TZNAME:CST
DTSTART:20231105T020000
TZOFFSETFROM:-0500
TZOFFSETTO:-0600
RDATE:20241103T020000
RDATE:20251102T020000
END:STANDARD
BEGIN:DAYLIGHT
TZNAME:CDT
DTSTART:20240310T020000
TZOFFSETFROM:-0600
TZOFFSETTO:-0500
RDATE:20250309T020000
END:DAYLIGHT
END:VTIMEZONE
BEGIN:VEVENT
UID:b178be7a-8efd-4a0c-acd6-123f06349ed6
DTSTAMP:20260422T102656Z
DESCRIPTION:
DTSTART;TZID=America/Chicago:20240628T120000
DTEND;TZID=America/Chicago:20240628T130000
LOCATION:
SUMMARY:Board Meeting
END:VEVENT
END:VCALENDAR
